Package: ArrayExpress Version: 1.69.0 Command: /Library/Frameworks/R.framework/Resources/bin/R CMD INSTALL ArrayExpress StartedAt: 2025-10-27 15:20:22 -0400 (Mon, 27 Oct 2025) EndedAt: 2025-10-27 15:20:58 -0400 (Mon, 27 Oct 2025) EllapsedTime: 35.4 seconds RetCode: 0 Status: OK