Package: ArrayExpress Version: 1.69.0 Command: /Library/Frameworks/R.framework/Resources/bin/R CMD build --keep-empty-dirs --no-resave-data ArrayExpress StartedAt: 2025-10-27 15:59:29 -0400 (Mon, 27 Oct 2025) EndedAt: 2025-10-27 16:02:15 -0400 (Mon, 27 Oct 2025) EllapsedTime: 165.6 seconds RetCode: 0 Status: OK PackageFile: ArrayExpress_1.69.0.tar.gz PackageFileSize: 136.2 KiB