Package: ArrayExpress Version: 1.70.0 Command: /Library/Frameworks/R.framework/Resources/bin/R CMD build --keep-empty-dirs --no-resave-data ArrayExpress StartedAt: 2025-11-17 19:05:05 -0500 (Mon, 17 Nov 2025) EndedAt: 2025-11-17 19:05:55 -0500 (Mon, 17 Nov 2025) EllapsedTime: 50.4 seconds RetCode: 0 Status: OK PackageFile: ArrayExpress_1.70.0.tar.gz PackageFileSize: 137.5 KiB