Package: AnnotationHubData Version: 1.40.0 Command: /Library/Frameworks/R.framework/Resources/bin/R CMD INSTALL AnnotationHubData StartedAt: 2025-11-02 15:43:25 -0500 (Sun, 02 Nov 2025) EndedAt: 2025-11-02 15:44:24 -0500 (Sun, 02 Nov 2025) EllapsedTime: 58.5 seconds RetCode: 0 Status: OK