Package: AnnotationHubData Version: 1.40.0 Command: /Library/Frameworks/R.framework/Resources/bin/R CMD build --keep-empty-dirs --no-resave-data AnnotationHubData StartedAt: 2025-11-02 16:07:55 -0500 (Sun, 02 Nov 2025) EndedAt: 2025-11-02 16:08:42 -0500 (Sun, 02 Nov 2025) EllapsedTime: 47.0 seconds RetCode: 0 Status: OK PackageFile: AnnotationHubData_1.40.0.tar.gz PackageFileSize: 400.3 KiB