Package: AnnotationHubData Version: 1.40.0 Command: rm -rf AnnotationHubData.buildbin-libdir && mkdir AnnotationHubData.buildbin-libdir && /Users/biocbuild/BBS/utils/build-universal.sh AnnotationHubData_1.40.0.tar.gz /Library/Frameworks/R.framework/Resources/bin/R AnnotationHubData.buildbin-libdir StartedAt: 2025-11-03 01:28:11 -0500 (Mon, 03 Nov 2025) EndedAt: 2025-11-03 01:29:13 -0500 (Mon, 03 Nov 2025) EllapsedTime: 62.2 seconds RetCode: 0 Status: OK PackageFile: AnnotationHubData_1.40.0.tgz PackageFileSize: 933 KiB