Package: AnnotationHub Version: 4.0.0 Command: /home/biocbuild/bbs-3.22-bioc/R/bin/R CMD INSTALL AnnotationHub StartedAt: 2025-11-02 15:35:59 -0500 (Sun, 02 Nov 2025) EndedAt: 2025-11-02 15:36:18 -0500 (Sun, 02 Nov 2025) EllapsedTime: 19.4 seconds RetCode: 0 Status: OK