Package: AnnotationHub Version: 4.0.0 Command: /home/biocbuild/bbs-3.22-bioc/R/bin/R CMD build --keep-empty-dirs --no-resave-data --md5 AnnotationHub StartedAt: 2025-11-02 16:28:03 -0500 (Sun, 02 Nov 2025) EndedAt: 2025-11-02 16:30:03 -0500 (Sun, 02 Nov 2025) EllapsedTime: 120.1 seconds RetCode: 0 Status: OK PackageFile: AnnotationHub_4.0.0.tar.gz PackageFileSize: 979.7 KiB