Package: AnnotationForge Version: 1.51.1 Command: /home/biocbuild/bbs-3.22-bioc/R/bin/R CMD INSTALL AnnotationForge StartedAt: 2025-10-24 15:36:21 -0400 (Fri, 24 Oct 2025) EndedAt: 2025-10-24 15:36:38 -0400 (Fri, 24 Oct 2025) EllapsedTime: 16.1 seconds RetCode: 0 Status: OK