Package: AnnotationForge Version: 1.51.1 Command: /home/biocbuild/bbs-3.22-bioc/R/bin/R CMD build --keep-empty-dirs --no-resave-data --md5 AnnotationForge StartedAt: 2025-10-24 16:22:26 -0400 (Fri, 24 Oct 2025) EndedAt: 2025-10-24 16:25:15 -0400 (Fri, 24 Oct 2025) EllapsedTime: 168.2 seconds RetCode: 0 Status: OK PackageFile: AnnotationForge_1.51.1.tar.gz PackageFileSize: 3.847 MiB