Package: AnnotationForge Version: 1.52.0 Command: /Library/Frameworks/R.framework/Resources/bin/R CMD INSTALL AnnotationForge StartedAt: 2025-11-10 15:09:03 -0500 (Mon, 10 Nov 2025) EndedAt: 2025-11-10 15:09:10 -0500 (Mon, 10 Nov 2025) EllapsedTime: 7.3 seconds RetCode: 0 Status: OK