Package: AnnotationDbi Version: 1.72.0 Command: /Library/Frameworks/R.framework/Resources/bin/R CMD INSTALL AnnotationDbi StartedAt: 2025-11-03 15:23:23 -0500 (Mon, 03 Nov 2025) EndedAt: 2025-11-03 15:23:51 -0500 (Mon, 03 Nov 2025) EllapsedTime: 27.5 seconds RetCode: 0 Status: OK