Package: AnnotationDbi Version: 1.72.0 Command: /Library/Frameworks/R.framework/Resources/bin/R CMD build --keep-empty-dirs --no-resave-data AnnotationDbi StartedAt: 2025-11-03 16:03:34 -0500 (Mon, 03 Nov 2025) EndedAt: 2025-11-03 16:04:51 -0500 (Mon, 03 Nov 2025) EllapsedTime: 76.6 seconds RetCode: 0 Status: OK PackageFile: AnnotationDbi_1.72.0.tar.gz PackageFileSize: 4.171 MiB