Package: AnnotationDbi Version: 1.72.0 Command: rm -rf AnnotationDbi.buildbin-libdir && mkdir AnnotationDbi.buildbin-libdir && /Users/biocbuild/BBS/utils/build-universal.sh AnnotationDbi_1.72.0.tar.gz /Library/Frameworks/R.framework/Resources/bin/R AnnotationDbi.buildbin-libdir StartedAt: 2025-11-04 01:27:36 -0500 (Tue, 04 Nov 2025) EndedAt: 2025-11-04 01:28:07 -0500 (Tue, 04 Nov 2025) EllapsedTime: 31.5 seconds RetCode: 0 Status: OK PackageFile: AnnotationDbi_1.72.0.tgz PackageFileSize: 4.97 MiB