Package: AnnotationDbi Version: 1.72.0 Command: /Library/Frameworks/R.framework/Resources/bin/R CMD build --keep-empty-dirs --no-resave-data AnnotationDbi StartedAt: 2025-11-02 15:37:45 -0500 (Sun, 02 Nov 2025) EndedAt: 2025-11-02 15:38:11 -0500 (Sun, 02 Nov 2025) EllapsedTime: 26.3 seconds RetCode: 0 Status: OK PackageFile: AnnotationDbi_1.72.0.tar.gz PackageFileSize: 4.172 MiB