Package: AnVILGCP Version: 1.4.1 Command: /home/biocbuild/bbs-3.22-bioc/R/bin/R CMD INSTALL AnVILGCP StartedAt: 2025-11-17 17:05:23 -0500 (Mon, 17 Nov 2025) EndedAt: 2025-11-17 17:05:28 -0500 (Mon, 17 Nov 2025) EllapsedTime: 4.5 seconds RetCode: 0 Status: OK