Package: AnVILBase Version: 1.4.0 Command: /Library/Frameworks/R.framework/Resources/bin/R CMD INSTALL AnVILBase StartedAt: 2025-11-10 15:05:07 -0500 (Mon, 10 Nov 2025) EndedAt: 2025-11-10 15:05:11 -0500 (Mon, 10 Nov 2025) EllapsedTime: 4.1 seconds RetCode: 0 Status: OK