Package: AnVILBase Version: 1.4.0 Command: /Library/Frameworks/R.framework/Resources/bin/R CMD build --keep-empty-dirs --no-resave-data AnVILBase StartedAt: 2025-11-10 15:38:05 -0500 (Mon, 10 Nov 2025) EndedAt: 2025-11-10 15:38:08 -0500 (Mon, 10 Nov 2025) EllapsedTime: 3.0 seconds RetCode: 0 Status: OK PackageFile: AnVILBase_1.4.0.tar.gz PackageFileSize: 227.8 KiB