Package: AnVILBase Version: 1.4.0 Command: rm -rf AnVILBase.buildbin-libdir && mkdir AnVILBase.buildbin-libdir && /Users/biocbuild/BBS/utils/build-universal.sh AnVILBase_1.4.0.tar.gz /Library/Frameworks/R.framework/Resources/bin/R AnVILBase.buildbin-libdir StartedAt: 2025-11-10 23:11:17 -0500 (Mon, 10 Nov 2025) EndedAt: 2025-11-10 23:11:19 -0500 (Mon, 10 Nov 2025) EllapsedTime: 2.1 seconds RetCode: 0 Status: OK PackageFile: AnVILBase_1.4.0.tgz PackageFileSize: 309.8 KiB