Package: AnVILBase Version: 1.4.0 Command: /Library/Frameworks/R.framework/Resources/bin/R CMD INSTALL AnVILBase StartedAt: 2025-11-24 15:29:39 -0500 (Mon, 24 Nov 2025) EndedAt: 2025-11-24 15:29:43 -0500 (Mon, 24 Nov 2025) EllapsedTime: 3.7 seconds RetCode: 0 Status: OK