Package: AnVILBase Version: 1.4.0 Command: /Library/Frameworks/R.framework/Resources/bin/R CMD build --keep-empty-dirs --no-resave-data AnVILBase StartedAt: 2025-11-24 19:13:27 -0500 (Mon, 24 Nov 2025) EndedAt: 2025-11-24 19:13:36 -0500 (Mon, 24 Nov 2025) EllapsedTime: 8.7 seconds RetCode: 0 Status: OK PackageFile: AnVILBase_1.4.0.tar.gz PackageFileSize: 227.8 KiB