Back to Build/check report for BioC 3.22:   simplified   long
[A]BCDEFGHIJKLMNOPQRSTUVWXYZ

This page was generated on 2025-10-27 12:45 -0400 (Mon, 27 Oct 2025).

HostnameOSArch (*)R versionInstalled pkgs
kjohnson3macOS 13.7.7 Venturaarm644.5.1 Patched (2025-09-10 r88807) -- "Great Square Root" 4637
Click on any hostname to see more info about the system (e.g. compilers)      (*) as reported by 'uname -p', except on Windows and Mac OS X

All results for package AnVILBase


To the developers/maintainers of the AnVILBase package:
- Allow up to 24 hours (and sometimes 48 hours) for your latest push to git@git.bioconductor.org:packages/AnVILBase.git to reflect on this report. See Troubleshooting Build Report for more information.
- Use the following Renviron settings to reproduce errors and warnings.
- If 'R CMD check' started to fail recently on the Linux builder(s) over a missing dependency, add the missing dependency to 'Suggests:' in your DESCRIPTION file. See Renviron.bioc for more information.

raw results

Package 86/2361HostnameOS / ArchINSTALLBUILDCHECKBUILD BIN
AnVILBase 1.3.1  (landing page)
Marcel Ramos
Snapshot Date: 2025-10-26 13:45 -0400 (Sun, 26 Oct 2025)
git_url: https://git.bioconductor.org/packages/AnVILBase
git_branch: devel
git_last_commit: aa91db5
git_last_commit_date: 2025-04-28 15:25:08 -0400 (Mon, 28 Apr 2025)
kjohnson3macOS 13.7.7 Ventura / arm64  OK    OK    OK    OK  UNNEEDED, same version is already published



Results for Bioconductor software packages that depend directly on package AnVILBase

QUICK STATSOS / ArchINSTALLBUILDCHECKBUILD BIN
kjohnson3macOS 13.7.7 Ventura / arm64
005
005
0014
005
Package 1/5HostnameOS / ArchINSTALLBUILDCHECKBUILD BIN
AnVIL 1.21.10  (landing page)
Marcel Ramos
git_last_commit: 1e39a3f
git_last_commit_date: 2025-09-22 10:20:32 -0400
kjohnson3macOS 13.7.7 Ventura / arm64  OK    OK    OK    OK  UNNEEDED, same version is already published
Package 2/5HostnameOS / ArchINSTALLBUILDCHECKBUILD BIN
AnVILAz 1.3.1  (landing page)
Marcel Ramos
git_last_commit: 71d98aa
git_last_commit_date: 2025-04-28 15:27:32 -0400
kjohnson3macOS 13.7.7 Ventura / arm64  OK    OK    OK    OK  UNNEEDED, same version is already published
Package 3/5HostnameOS / ArchINSTALLBUILDCHECKBUILD BIN
AnVILGCP 1.3.11  (landing page)
Marcel Ramos
git_last_commit: 7f3e04b
git_last_commit_date: 2025-09-25 16:59:15 -0400
kjohnson3macOS 13.7.7 Ventura / arm64  OK    OK    OK    OK  UNNEEDED, same version is already published
Package 4/5HostnameOS / ArchINSTALLBUILDCHECKBUILD BIN
AnVILWorkflow 1.9.0  (landing page)
Sehyun Oh
git_last_commit: 6f67f0f
git_last_commit_date: 2025-04-15 13:02:43 -0400
kjohnson3macOS 13.7.7 Ventura / arm64  OK    OK    WARNINGS    OK  UNNEEDED, same version is already published
Package 5/5HostnameOS / ArchINSTALLBUILDCHECKBUILD BIN
GCPtools 0.99.4  (landing page)
Marcel Ramos
git_last_commit: 7ca80e8
git_last_commit_date: 2025-09-25 15:43:20 -0400
kjohnson3macOS 13.7.7 Ventura / arm64  OK    OK    OK    OK  UNNEEDED, same version is already published