Package: AnVILAz Version: 1.3.1 Command: /home/biocbuild/bbs-3.22-bioc/R/bin/R CMD INSTALL AnVILAz StartedAt: 2025-10-24 15:19:43 -0400 (Fri, 24 Oct 2025) EndedAt: 2025-10-24 15:19:48 -0400 (Fri, 24 Oct 2025) EllapsedTime: 4.8 seconds RetCode: 0 Status: OK