Package: AnVILAz Version: 1.3.1 Command: /home/biocbuild/bbs-3.22-bioc/R/bin/R CMD build --keep-empty-dirs --no-resave-data --md5 AnVILAz StartedAt: 2025-10-24 16:23:04 -0400 (Fri, 24 Oct 2025) EndedAt: 2025-10-24 16:23:12 -0400 (Fri, 24 Oct 2025) EllapsedTime: 8.0 seconds RetCode: 0 Status: OK PackageFile: AnVILAz_1.3.1.tar.gz PackageFileSize: 828 KiB