Package: AlphaMissenseR Version: 1.5.4 Command: /home/biocbuild/bbs-3.22-bioc/R/bin/R CMD INSTALL AlphaMissenseR StartedAt: 2025-10-24 15:19:58 -0400 (Fri, 24 Oct 2025) EndedAt: 2025-10-24 15:20:15 -0400 (Fri, 24 Oct 2025) EllapsedTime: 16.8 seconds RetCode: 0 Status: OK