Package: AlphaMissenseR Version: 1.5.4 Command: /home/biocbuild/bbs-3.22-bioc/R/bin/R CMD build --keep-empty-dirs --no-resave-data --md5 AlphaMissenseR StartedAt: 2025-10-24 16:20:58 -0400 (Fri, 24 Oct 2025) EndedAt: 2025-10-24 16:23:09 -0400 (Fri, 24 Oct 2025) EllapsedTime: 131.2 seconds RetCode: 0 Status: OK PackageFile: AlphaMissenseR_1.5.4.tar.gz PackageFileSize: 2.736 MiB