Package: AlphaMissenseR Version: 1.6.0 Command: /Library/Frameworks/R.framework/Resources/bin/R CMD INSTALL AlphaMissenseR StartedAt: 2025-11-10 15:05:19 -0500 (Mon, 10 Nov 2025) EndedAt: 2025-11-10 15:05:24 -0500 (Mon, 10 Nov 2025) EllapsedTime: 4.4 seconds RetCode: 0 Status: OK