Package: AlphaMissenseR Version: 1.6.0 Command: /Library/Frameworks/R.framework/Resources/bin/R CMD build --keep-empty-dirs --no-resave-data AlphaMissenseR StartedAt: 2025-11-10 15:36:53 -0500 (Mon, 10 Nov 2025) EndedAt: 2025-11-10 15:38:16 -0500 (Mon, 10 Nov 2025) EllapsedTime: 83.0 seconds RetCode: 0 Status: OK PackageFile: AlphaMissenseR_1.6.0.tar.gz PackageFileSize: 2.793 MiB