Package: AlphaMissenseR Version: 1.6.0 Command: rm -rf AlphaMissenseR.buildbin-libdir && mkdir AlphaMissenseR.buildbin-libdir && /Users/biocbuild/BBS/utils/build-universal.sh AlphaMissenseR_1.6.0.tar.gz /Library/Frameworks/R.framework/Resources/bin/R AlphaMissenseR.buildbin-libdir StartedAt: 2025-11-10 23:10:59 -0500 (Mon, 10 Nov 2025) EndedAt: 2025-11-10 23:11:03 -0500 (Mon, 10 Nov 2025) EllapsedTime: 4.1 seconds RetCode: 0 Status: OK PackageFile: AlphaMissenseR_1.6.0.tgz PackageFileSize: 2.738 MiB