Package: AWFisher Version: 1.24.0 Command: /home/biocbuild/bbs-3.22-bioc/R/bin/R CMD INSTALL AWFisher StartedAt: 2025-11-03 15:05:28 -0500 (Mon, 03 Nov 2025) EndedAt: 2025-11-03 15:05:44 -0500 (Mon, 03 Nov 2025) EllapsedTime: 16.0 seconds RetCode: 0 Status: OK