Package: AWFisher Version: 1.24.0 Command: /home/biocbuild/bbs-3.22-bioc/R/bin/R CMD build --keep-empty-dirs --no-resave-data --md5 AWFisher StartedAt: 2025-10-31 16:27:23 -0400 (Fri, 31 Oct 2025) EndedAt: 2025-10-31 16:27:45 -0400 (Fri, 31 Oct 2025) EllapsedTime: 22.0 seconds RetCode: 0 Status: OK PackageFile: AWFisher_1.24.0.tar.gz PackageFileSize: 1.385 MiB