Package: AWAggregator Version: 0.99.4 Command: /home/biocbuild/bbs-3.22-bioc/R/bin/R CMD build --keep-empty-dirs --no-resave-data --md5 AWAggregator StartedAt: 2025-10-24 16:26:48 -0400 (Fri, 24 Oct 2025) EndedAt: 2025-10-24 16:31:50 -0400 (Fri, 24 Oct 2025) EllapsedTime: 302.3 seconds RetCode: 0 Status: OK PackageFile: AWAggregator_0.99.4.tar.gz PackageFileSize: 274.7 KiB