Package: AWAggregator Version: 1.0.0 Command: /Library/Frameworks/R.framework/Resources/bin/R CMD build --keep-empty-dirs --no-resave-data AWAggregator StartedAt: 2025-11-20 17:57:19 -0500 (Thu, 20 Nov 2025) EndedAt: 2025-11-20 18:11:28 -0500 (Thu, 20 Nov 2025) EllapsedTime: 849.2 seconds RetCode: 0 Status: OK PackageFile: AWAggregator_1.0.0.tar.gz PackageFileSize: 273.5 KiB