Package: AWAggregator Version: 1.0.0 Command: /Library/Frameworks/R.framework/Resources/bin/R CMD INSTALL AWAggregator StartedAt: 2025-11-17 17:07:40 -0500 (Mon, 17 Nov 2025) EndedAt: 2025-11-17 17:07:42 -0500 (Mon, 17 Nov 2025) EllapsedTime: 2.8 seconds RetCode: 0 Status: OK