Package: AWAggregator Version: 1.0.0 Command: rm -rf AWAggregator.buildbin-libdir && mkdir AWAggregator.buildbin-libdir && /Users/biocbuild/BBS/utils/build-universal.sh AWAggregator_1.0.0.tar.gz /Library/Frameworks/R.framework/Resources/bin/R AWAggregator.buildbin-libdir StartedAt: 2025-11-18 15:07:12 -0500 (Tue, 18 Nov 2025) EndedAt: 2025-11-18 15:07:17 -0500 (Tue, 18 Nov 2025) EllapsedTime: 5.0 seconds RetCode: 0 Status: OK PackageFile: AWAggregator_1.0.0.tgz PackageFileSize: 305.4 KiB