Package: ATACseqTFEA Version: 1.12.0 Command: /home/biocbuild/bbs-3.22-bioc/R/bin/R CMD INSTALL ATACseqTFEA StartedAt: 2025-11-14 15:55:15 -0500 (Fri, 14 Nov 2025) EndedAt: 2025-11-14 15:55:57 -0500 (Fri, 14 Nov 2025) EllapsedTime: 41.8 seconds RetCode: 0 Status: OK