Package: ATACseqQC Version: 1.34.0 Command: /Library/Frameworks/R.framework/Resources/bin/R CMD build --keep-empty-dirs --no-resave-data ATACseqQC StartedAt: 2025-11-10 15:39:06 -0500 (Mon, 10 Nov 2025) EndedAt: 2025-11-10 15:40:42 -0500 (Mon, 10 Nov 2025) EllapsedTime: 96.0 seconds RetCode: 0 Status: OK PackageFile: ATACseqQC_1.34.0.tar.gz PackageFileSize: 14.79 MiB