Package: ASICS Version: 2.25.0 Command: /home/biocbuild/bbs-3.22-bioc/R/bin/R CMD INSTALL ASICS StartedAt: 2025-10-24 15:32:26 -0400 (Fri, 24 Oct 2025) EndedAt: 2025-10-24 15:32:59 -0400 (Fri, 24 Oct 2025) EllapsedTime: 33.7 seconds RetCode: 0 Status: OK