Package: ASICS Version: 2.26.0 Command: /Library/Frameworks/R.framework/Resources/bin/R CMD INSTALL ASICS StartedAt: 2025-11-06 15:13:35 -0500 (Thu, 06 Nov 2025) EndedAt: 2025-11-06 15:13:49 -0500 (Thu, 06 Nov 2025) EllapsedTime: 13.8 seconds RetCode: 0 Status: OK