Package: ASICS Version: 2.26.0 Command: /Library/Frameworks/R.framework/Resources/bin/R CMD build --keep-empty-dirs --no-resave-data ASICS StartedAt: 2025-11-06 15:39:02 -0500 (Thu, 06 Nov 2025) EndedAt: 2025-11-06 15:40:34 -0500 (Thu, 06 Nov 2025) EllapsedTime: 92.0 seconds RetCode: 0 Status: OK PackageFile: ASICS_2.26.0.tar.gz PackageFileSize: 3.581 MiB