Package: ASICS Version: 2.26.0 Command: rm -rf ASICS.buildbin-libdir && mkdir ASICS.buildbin-libdir && /Users/biocbuild/BBS/utils/build-universal.sh ASICS_2.26.0.tar.gz /Library/Frameworks/R.framework/Resources/bin/R ASICS.buildbin-libdir StartedAt: 2025-11-06 22:56:06 -0500 (Thu, 06 Nov 2025) EndedAt: 2025-11-06 22:56:22 -0500 (Thu, 06 Nov 2025) EllapsedTime: 15.3 seconds RetCode: 0 Status: OK PackageFile: ASICS_2.26.0.tgz PackageFileSize: 4.127 MiB