Package: ASEB Version: 1.53.0 Command: /home/biocbuild/bbs-3.22-bioc/R/bin/R CMD INSTALL ASEB StartedAt: 2025-10-24 15:12:51 -0400 (Fri, 24 Oct 2025) EndedAt: 2025-10-24 15:13:00 -0400 (Fri, 24 Oct 2025) EllapsedTime: 8.1 seconds RetCode: 0 Status: OK