Package: ASAFE Version: 1.36.0 Command: /home/biocbuild/bbs-3.22-bioc/R/bin/R CMD INSTALL ASAFE StartedAt: 2025-11-17 16:38:20 -0500 (Mon, 17 Nov 2025) EndedAt: 2025-11-17 16:38:22 -0500 (Mon, 17 Nov 2025) EllapsedTime: 2.2 seconds RetCode: 0 Status: OK