Package: ARRmNormalization Version: 1.49.0 Command: /home/biocbuild/bbs-3.22-bioc/R/bin/R CMD build --keep-empty-dirs --no-resave-data --md5 ARRmNormalization StartedAt: 2025-10-24 16:24:21 -0400 (Fri, 24 Oct 2025) EndedAt: 2025-10-24 16:24:49 -0400 (Fri, 24 Oct 2025) EllapsedTime: 27.0 seconds RetCode: 0 Status: OK PackageFile: ARRmNormalization_1.49.0.tar.gz PackageFileSize: 1.076 MiB