Package: ARRmNormalization Version: 1.50.0 Command: /Library/Frameworks/R.framework/Resources/bin/R CMD INSTALL ARRmNormalization StartedAt: 2025-11-10 15:02:08 -0500 (Mon, 10 Nov 2025) EndedAt: 2025-11-10 15:02:14 -0500 (Mon, 10 Nov 2025) EllapsedTime: 6.6 seconds RetCode: 0 Status: OK