Package: ARRmNormalization Version: 1.50.0 Command: /Library/Frameworks/R.framework/Resources/bin/R CMD build --keep-empty-dirs --no-resave-data ARRmNormalization StartedAt: 2025-11-10 15:38:41 -0500 (Mon, 10 Nov 2025) EndedAt: 2025-11-10 15:38:56 -0500 (Mon, 10 Nov 2025) EllapsedTime: 15.2 seconds RetCode: 0 Status: OK PackageFile: ARRmNormalization_1.50.0.tar.gz PackageFileSize: 1.075 MiB