Package: ARRmNormalization Version: 1.50.0 Command: rm -rf ARRmNormalization.buildbin-libdir && mkdir ARRmNormalization.buildbin-libdir && /Users/biocbuild/BBS/utils/build-universal.sh ARRmNormalization_1.50.0.tar.gz /Library/Frameworks/R.framework/Resources/bin/R ARRmNormalization.buildbin-libdir StartedAt: 2025-11-10 23:11:21 -0500 (Mon, 10 Nov 2025) EndedAt: 2025-11-10 23:11:24 -0500 (Mon, 10 Nov 2025) EllapsedTime: 3.0 seconds RetCode: 0 Status: OK PackageFile: ARRmNormalization_1.50.0.tgz PackageFileSize: 1.112 MiB