Package: APL Version: 1.13.0 Command: /home/biocbuild/bbs-3.22-bioc/R/bin/R CMD build --keep-empty-dirs --no-resave-data --md5 APL StartedAt: 2025-10-24 16:23:20 -0400 (Fri, 24 Oct 2025) EndedAt: 2025-10-24 16:26:44 -0400 (Fri, 24 Oct 2025) EllapsedTime: 203.2 seconds RetCode: 0 Status: OK PackageFile: APL_1.13.0.tar.gz PackageFileSize: 2.328 MiB