Package: APAlyzer Version: 1.24.0 Command: /home/biocbuild/bbs-3.22-bioc/R/bin/R CMD build --keep-empty-dirs --no-resave-data --md5 APAlyzer StartedAt: 2025-11-13 16:15:05 -0500 (Thu, 13 Nov 2025) EndedAt: 2025-11-13 16:16:41 -0500 (Thu, 13 Nov 2025) EllapsedTime: 96.1 seconds RetCode: 0 Status: OK PackageFile: APAlyzer_1.24.0.tar.gz PackageFileSize: 3.919 MiB