Package: AMARETTO Version: 1.26.0 Command: /home/biocbuild/bbs-3.22-bioc/R/bin/R CMD INSTALL AMARETTO StartedAt: 2025-11-17 18:14:37 -0500 (Mon, 17 Nov 2025) EndedAt: 2025-11-17 18:15:15 -0500 (Mon, 17 Nov 2025) EllapsedTime: 37.8 seconds RetCode: 0 Status: OK